BEGIN:VCALENDAR
VERSION:2.0
PRODID:-//81.88.36.52//NONSGML kigkonsult.se iCalcreator 2.20//
CALSCALE:GREGORIAN
METHOD:PUBLISH
X-WR-TIMEZONE:Europe/Vienna
BEGIN:VEVENT
UID:event962@Online-Magazin SCHNAPPEN.AT: die interessanten Seiten des Lebe
 ns
DTSTAMP:20260424T095002Z
CATEGORIES:Termine noch offen
DESCRIPTION:Falco\, das Musical\nKategorie: Termine noch offen\nICS-Link: h
 ttps://www.schnappen.at/oesterreich/index.php?option=com_jem&view=event&id
 =962:falco\n
DTSTART;VALUE=DATE:20240412
DTEND;VALUE=DATE:20240413
SUMMARY:Falco\, das Musical
URL:https://www.schnappen.at/oesterreich/index.php?option=com_jem&view=even
 t&id=962:falco
END:VEVENT
END:VCALENDAR