BEGIN:VCALENDAR
VERSION:2.0
PRODID:-//81.88.36.52//NONSGML kigkonsult.se iCalcreator 2.20//
CALSCALE:GREGORIAN
METHOD:PUBLISH
X-WR-TIMEZONE:Europe/Vienna
BEGIN:VEVENT
UID:event458@Online-Magazin SCHNAPPEN.AT: die interessanten Seiten des Lebe
 ns
DTSTAMP:20260424T114317Z
CATEGORIES:Veranstaltungen
DESCRIPTION:Gernot Kulis auf Tour\nKategorie: Veranstaltungen\nICS-Link: ht
 tps://www.schnappen.at/oesterreich/index.php?option=com_jem&view=event&id=
 458:gernot-kulis\n
DTSTART;VALUE=DATE:20260424
DTEND;VALUE=DATE:20260425
LOCATION:VAZ St. Pölten\,Kelsengasse 1\,3100 St. Pölten\,Austria
SUMMARY:Gernot Kulis auf Tour
URL:https://www.schnappen.at/oesterreich/index.php?option=com_jem&view=even
 t&id=458:gernot-kulis
END:VEVENT
END:VCALENDAR