BEGIN:VCALENDAR
VERSION:2.0
PRODID:-//81.88.36.52//NONSGML kigkonsult.se iCalcreator 2.20//
CALSCALE:GREGORIAN
METHOD:PUBLISH
X-WR-TIMEZONE:Europe/Vienna
BEGIN:VEVENT
UID:event115@Online-Magazin SCHNAPPEN.AT: die interessanten Seiten des Lebe
 ns
DTSTAMP:20260424T094450Z
CATEGORIES:Flohmarkt\, Oldtimer
DESCRIPTION:Hot Summer Nites: US-Cars\nKategorie: Flohmarkt\, Oldtimer\nICS
 -Link: https://www.schnappen.at/oesterreich/index.php?option=com_jem&view=
 event&id=115:hot-summer-nites\n
DTSTART;VALUE=DATE:20260911
DTEND;VALUE=DATE:20260912
LOCATION:SCS Vösendorf\,scs\,2334 Vösendorf
SUMMARY:Hot Summer Nites: US-Cars
URL:https://www.schnappen.at/oesterreich/index.php?option=com_jem&view=even
 t&id=115:hot-summer-nites
END:VEVENT
END:VCALENDAR