BEGIN:VCALENDAR
VERSION:2.0
PRODID:-//81.88.36.52//NONSGML kigkonsult.se iCalcreator 2.20//
CALSCALE:GREGORIAN
METHOD:PUBLISH
X-WR-TIMEZONE:Europe/Vienna
BEGIN:VEVENT
UID:event1889@Online-Magazin SCHNAPPEN.AT: die interessanten Seiten des Leb
 ens
DTSTAMP:20260425T120931Z
CATEGORIES:Veranstaltungen
DESCRIPTION:Subway to Sally in Österreich und Deutschland\nKategorie: Veran
 staltungen\nICS-Link: https://www.schnappen.at/oesterreich/index.php?optio
 n=com_jem&view=event&id=1889:subway-to-sally\n
DTSTART;VALUE=DATE:20261002
DTEND;VALUE=DATE:20261003
LOCATION:SIMM City\,Simmeringer Hauptstraße 96A\,1110 Wien
SUMMARY:Subway to Sally in Österreich und Deutschland
URL:https://www.schnappen.at/oesterreich/index.php?option=com_jem&view=even
 t&id=1889:subway-to-sally
END:VEVENT
END:VCALENDAR