BEGIN:VCALENDAR
VERSION:2.0
PRODID:-//81.88.36.52//NONSGML kigkonsult.se iCalcreator 2.20//
CALSCALE:GREGORIAN
METHOD:PUBLISH
X-WR-TIMEZONE:Europe/Vienna
BEGIN:VEVENT
UID:event633@Online-Magazin SCHNAPPEN.AT: die interessanten Seiten des Lebe
 ns
DTSTAMP:20260424T095357Z
CATEGORIES:Flohmarkt\, Oldtimer
DESCRIPTION:Börse für Schallplatten\, CD und DVD\nKategorie: Flohmarkt\, Ol
 dtimer\nICS-Link: https://www.schnappen.at/oesterreich/index.php?option=co
 m_jem&view=event&id=633:schallplatten-boerse\n
DTSTART;TZID=Europe/Vienna:20260523T100000
DTEND;TZID=Europe/Vienna:20260524T170000
SUMMARY:Börse für Schallplatten\, CD und DVD
URL:https://www.schnappen.at/oesterreich/index.php?option=com_jem&view=even
 t&id=633:schallplatten-boerse
END:VEVENT
END:VCALENDAR