BEGIN:VCALENDAR
VERSION:2.0
PRODID:-//81.88.36.52//NONSGML kigkonsult.se iCalcreator 2.20//
CALSCALE:GREGORIAN
METHOD:PUBLISH
X-WR-TIMEZONE:Europe/Vienna
BEGIN:VEVENT
UID:event80@Online-Magazin SCHNAPPEN.AT: die interessanten Seiten des Leben
 s
DTSTAMP:20260425T122057Z
CATEGORIES:Messeveranstaltungen im Messekalender
DESCRIPTION:Alles für den Gast\nKategorie: Messeveranstaltungen im Messekal
 ender\nICS-Link: https://www.schnappen.at/oesterreich/index.php?option=com
 _jem&view=event&id=80:alles-fuer-den-gast\n
DTSTART;VALUE=DATE:20261107
DTEND;VALUE=DATE:20261111
LOCATION:Messezentrum Salzburg\,Am Messezentrum 1\,5020 Salzburg
SUMMARY:Alles für den Gast
URL:https://www.schnappen.at/oesterreich/index.php?option=com_jem&view=even
 t&id=80:alles-fuer-den-gast
END:VEVENT
END:VCALENDAR