BEGIN:VCALENDAR
VERSION:2.0
PRODID:-//81.88.36.52//NONSGML kigkonsult.se iCalcreator 2.20//
CALSCALE:GREGORIAN
METHOD:PUBLISH
X-WR-TIMEZONE:Europe/Vienna
BEGIN:VEVENT
UID:event143@Online-Magazin SCHNAPPEN.AT: die interessanten Seiten des Lebe
 ns
DTSTAMP:20260425T163011Z
CATEGORIES:Heurigentermine
DESCRIPTION:Heuriger Siffert\, Leithaprodersdorf\nKategorie: Heurigentermin
 e\nICS-Link: https://www.schnappen.at/oesterreich/index.php?option=com_jem
 &view=event&id=143:siffert\n
DTSTART;VALUE=DATE:20260521
DTEND;VALUE=DATE:20260525
SUMMARY:Heuriger Siffert\, Leithaprodersdorf
URL:https://www.schnappen.at/oesterreich/index.php?option=com_jem&view=even
 t&id=143:siffert
END:VEVENT
END:VCALENDAR