BEGIN:VCALENDAR
VERSION:2.0
PRODID:-//81.88.36.52//NONSGML kigkonsult.se iCalcreator 2.20//
CALSCALE:GREGORIAN
METHOD:PUBLISH
X-WR-TIMEZONE:Europe/Vienna
BEGIN:VEVENT
UID:event1127@Online-Magazin SCHNAPPEN.AT: die interessanten Seiten des Leb
 ens
DTSTAMP:20260424T155701Z
CATEGORIES:Veranstaltungen
DESCRIPTION:Julian Le Play auf Tour\nKategorie: Veranstaltungen\nICS-Link: 
 https://www.schnappen.at/oesterreich/index.php?option=com_jem&view=event&i
 d=1127:julian-leplay\n
DTSTART;VALUE=DATE:20260618
DTEND;VALUE=DATE:20260619
LOCATION:Kasematten Graz\,Am Schloßberg\,8010  Graz
SUMMARY:Julian Le Play auf Tour
URL:https://www.schnappen.at/oesterreich/index.php?option=com_jem&view=even
 t&id=1127:julian-leplay
END:VEVENT
END:VCALENDAR