BEGIN:VCALENDAR
VERSION:2.0
PRODID:-//81.88.36.52//NONSGML kigkonsult.se iCalcreator 2.20//
CALSCALE:GREGORIAN
METHOD:PUBLISH
X-WR-TIMEZONE:Europe/Vienna
BEGIN:VEVENT
UID:event1753@Online-Magazin SCHNAPPEN.AT: die interessanten Seiten des Leb
 ens
DTSTAMP:20260424T141722Z
CATEGORIES:Termine noch offen
DESCRIPTION:Seniorenball in Wien\nKategorie: Termine noch offen\nICS-Link: 
 https://www.schnappen.at/oesterreich/index.php?option=com_jem&view=event&i
 d=1753:seniorenball\n
DTSTART;VALUE=DATE:20270221
DTEND;VALUE=DATE:20270222
LOCATION:Wien Rathaus\,Rathausplatz 1\,1010 Wien
SUMMARY:Seniorenball in Wien
URL:https://www.schnappen.at/oesterreich/index.php?option=com_jem&view=even
 t&id=1753:seniorenball
END:VEVENT
END:VCALENDAR