BEGIN:VCALENDAR
VERSION:2.0
PRODID:-//81.88.36.52//NONSGML kigkonsult.se iCalcreator 2.20//
CALSCALE:GREGORIAN
METHOD:PUBLISH
X-WR-TIMEZONE:Europe/Vienna
BEGIN:VEVENT
UID:event250@Online-Magazin SCHNAPPEN.AT: die interessanten Seiten des Lebe
 ns
DTSTAMP:20260424T141845Z
CATEGORIES:Ballkalender & Balltermine
DESCRIPTION:Ball der Oberösterreicher 2026\nKategorie: Ballkalender & Ballt
 ermine\nICS-Link: https://www.schnappen.at/oesterreich/index.php?option=co
 m_jem&view=event&id=250:ball-oberoesterreicher\n
DTSTART;VALUE=DATE:20260613
DTEND;VALUE=DATE:20260614
LOCATION:Wien Rathaus\,Rathausplatz 1\,1010 Wien
SUMMARY:Ball der Oberösterreicher 2026
URL:https://www.schnappen.at/oesterreich/index.php?option=com_jem&view=even
 t&id=250:ball-oberoesterreicher
END:VEVENT
END:VCALENDAR