BEGIN:VCALENDAR
VERSION:2.0
PRODID:-//81.88.36.52//NONSGML kigkonsult.se iCalcreator 2.20//
CALSCALE:GREGORIAN
METHOD:PUBLISH
X-WR-TIMEZONE:Europe/Vienna
BEGIN:VEVENT
UID:event1096@Online-Magazin SCHNAPPEN.AT: die interessanten Seiten des Leb
 ens
DTSTAMP:20260424T233833Z
CATEGORIES:Termine noch offen
DESCRIPTION:Dracula auf Burg Lockenhaus\nKategorie: Termine noch offen\nICS
 -Link: https://www.schnappen.at/oesterreich/index.php?option=com_jem&view=
 event&id=1096:dracula\n
DTSTART;VALUE=DATE:20251031
DTEND;VALUE=DATE:20251101
LOCATION:Burg Lockenhaus\,Günser Str. 5\,7442  Lockenhaus
SUMMARY:Dracula auf Burg Lockenhaus
URL:https://www.schnappen.at/oesterreich/index.php?option=com_jem&view=even
 t&id=1096:dracula
END:VEVENT
END:VCALENDAR