BEGIN:VCALENDAR
VERSION:2.0
PRODID:-//81.88.36.52//NONSGML kigkonsult.se iCalcreator 2.20//
CALSCALE:GREGORIAN
METHOD:PUBLISH
X-WR-TIMEZONE:Europe/Vienna
BEGIN:VEVENT
UID:event1208@Online-Magazin SCHNAPPEN.AT: die interessanten Seiten des Leb
 ens
DTSTAMP:20260425T121818Z
CATEGORIES:Veranstaltungen
DESCRIPTION:Nick Cave & The Bad Seeds \nKategorie: Veranstaltungen\nICS-Lin
 k: https://www.schnappen.at/oesterreich/index.php?option=com_jem&view=even
 t&id=1208:nick-cave\n
DTSTART;VALUE=DATE:20260621
DTEND;VALUE=DATE:20260622
LOCATION:Burg Clam\,Sperken 1\,4352 Klam
SUMMARY:Nick Cave & The Bad Seeds 
URL:https://www.schnappen.at/oesterreich/index.php?option=com_jem&view=even
 t&id=1208:nick-cave
END:VEVENT
END:VCALENDAR