BEGIN:VCALENDAR
VERSION:2.0
PRODID:-//81.88.36.52//NONSGML kigkonsult.se iCalcreator 2.20//
CALSCALE:GREGORIAN
METHOD:PUBLISH
X-WR-TIMEZONE:Europe/Vienna
BEGIN:VEVENT
UID:event1338@Online-Magazin SCHNAPPEN.AT: die interessanten Seiten des Leb
 ens
DTSTAMP:20260424T193915Z
CATEGORIES:Termine noch offen
DESCRIPTION:Break the Tango\, Tango meets Streetdance\nKategorie: Termine n
 och offen\nICS-Link: https://www.schnappen.at/oesterreich/index.php?option
 =com_jem&view=event&id=1338:tango\n
DTSTART;VALUE=DATE:20191128
DTEND;VALUE=DATE:20191202
LOCATION:MuseumsQuartier Wien\,Museumsplatz 1\,1070 Wien
SUMMARY:Break the Tango\, Tango meets Streetdance
URL:https://www.schnappen.at/oesterreich/index.php?option=com_jem&view=even
 t&id=1338:tango
END:VEVENT
END:VCALENDAR