BEGIN:VCALENDAR
VERSION:2.0
PRODID:-//81.88.36.52//NONSGML kigkonsult.se iCalcreator 2.20//
CALSCALE:GREGORIAN
METHOD:PUBLISH
X-WR-TIMEZONE:Europe/Vienna
BEGIN:VEVENT
UID:event1379@Online-Magazin SCHNAPPEN.AT: die interessanten Seiten des Leb
 ens
DTSTAMP:20260424T024607Z
CATEGORIES:Veranstaltungen
DESCRIPTION:Beth Hart in Graz\nKategorie: Veranstaltungen\nICS-Link: https:
 //www.schnappen.at/oesterreich/index.php?option=com_jem&view=event&id=1379
 :beth-hart\n
DTSTART;VALUE=DATE:20260530
DTEND;VALUE=DATE:20260531
SUMMARY:Beth Hart in Graz
URL:https://www.schnappen.at/oesterreich/index.php?option=com_jem&view=even
 t&id=1379:beth-hart
END:VEVENT
END:VCALENDAR