BEGIN:VCALENDAR
VERSION:2.0
PRODID:-//81.88.36.52//NONSGML kigkonsult.se iCalcreator 2.20//
CALSCALE:GREGORIAN
METHOD:PUBLISH
X-WR-TIMEZONE:Europe/Vienna
BEGIN:VEVENT
UID:event1890@Online-Magazin SCHNAPPEN.AT: die interessanten Seiten des Leb
 ens
DTSTAMP:20260425T121805Z
CATEGORIES:Veranstaltungen
DESCRIPTION:Van Morrison\nKategorie: Veranstaltungen\nICS-Link: https://www
 .schnappen.at/oesterreich/index.php?option=com_jem&view=event&id=1890:van-
 morrison\n
DTSTART;VALUE=DATE:20260716
DTEND;VALUE=DATE:20260717
LOCATION:Burg Clam\,Sperken 1\,4352 Klam
SUMMARY:Van Morrison
URL:https://www.schnappen.at/oesterreich/index.php?option=com_jem&view=even
 t&id=1890:van-morrison
END:VEVENT
END:VCALENDAR