BEGIN:VCALENDAR
VERSION:2.0
PRODID:-//81.88.36.52//NONSGML kigkonsult.se iCalcreator 2.20//
CALSCALE:GREGORIAN
METHOD:PUBLISH
X-WR-TIMEZONE:Europe/Vienna
BEGIN:VEVENT
UID:event1938@Online-Magazin SCHNAPPEN.AT: die interessanten Seiten des Leb
 ens
DTSTAMP:20260425T121825Z
CATEGORIES:Veranstaltungen
DESCRIPTION:Electric Callboy in Österreich und Deutschland\nKategorie: Vera
 nstaltungen\nICS-Link: https://www.schnappen.at/oesterreich/index.php?opti
 on=com_jem&view=event&id=1938:electric\n
DTSTART;VALUE=DATE:20260626
DTEND;VALUE=DATE:20260627
LOCATION:Burg Clam\,Sperken 1\,4352 Klam
SUMMARY:Electric Callboy in Österreich und Deutschland
URL:https://www.schnappen.at/oesterreich/index.php?option=com_jem&view=even
 t&id=1938:electric
END:VEVENT
END:VCALENDAR