BEGIN:VCALENDAR
VERSION:2.0
PRODID:-//81.88.36.52//NONSGML kigkonsult.se iCalcreator 2.20//
CALSCALE:GREGORIAN
METHOD:PUBLISH
X-WR-TIMEZONE:Europe/Vienna
BEGIN:VEVENT
UID:event2103@Online-Magazin SCHNAPPEN.AT: die interessanten Seiten des Leb
 ens
DTSTAMP:20260424T152152Z
CATEGORIES:Veranstaltungen
DESCRIPTION:Kabarettist Sebastian Haring\nKategorie: Veranstaltungen\nICS-L
 ink: https://www.schnappen.at/oesterreich/index.php?option=com_jem&view=ev
 ent&id=2103:haring\n
DTSTART;VALUE=DATE:20260509
DTEND;VALUE=DATE:20260510
LOCATION:Theater am Alsergrund\,Löblichgasse 5\,1090  Wien
SUMMARY:Kabarettist Sebastian Haring
URL:https://www.schnappen.at/oesterreich/index.php?option=com_jem&view=even
 t&id=2103:haring
END:VEVENT
END:VCALENDAR