BEGIN:VCALENDAR
VERSION:2.0
PRODID:-//81.88.36.52//NONSGML kigkonsult.se iCalcreator 2.20//
CALSCALE:GREGORIAN
METHOD:PUBLISH
X-WR-TIMEZONE:Europe/Vienna
BEGIN:VEVENT
UID:event2199@Online-Magazin SCHNAPPEN.AT: die interessanten Seiten des Leb
 ens
DTSTAMP:20260424T160749Z
CATEGORIES:Termine noch offen
DESCRIPTION:Stadtschlaining: Adventmarkt\, Konzerte & Events\nKategorie: Te
 rmine noch offen\nICS-Link: https://www.schnappen.at/oesterreich/index.php
 ?option=com_jem&view=event&id=2199:stadtschlaining\n
DTSTART;VALUE=DATE:20251207
DTEND;VALUE=DATE:20251208
SUMMARY:Stadtschlaining: Adventmarkt\, Konzerte & Events
URL:https://www.schnappen.at/oesterreich/index.php?option=com_jem&view=even
 t&id=2199:stadtschlaining
END:VEVENT
END:VCALENDAR