BEGIN:VCALENDAR
VERSION:2.0
PRODID:-//81.88.36.52//NONSGML kigkonsult.se iCalcreator 2.20//
CALSCALE:GREGORIAN
METHOD:PUBLISH
X-WR-TIMEZONE:Europe/Vienna
BEGIN:VEVENT
UID:event403@Online-Magazin SCHNAPPEN.AT: die interessanten Seiten des Lebe
 ns
DTSTAMP:20260424T133622Z
CATEGORIES:Termine noch offen
DESCRIPTION:Kabarett am See 2026 Oggau\nKategorie: Termine noch offen\nICS-
 Link: https://www.schnappen.at/oesterreich/index.php?option=com_jem&view=e
 vent&id=403:kabarett-oggau\n
DTSTART;VALUE=DATE:20250916
DTEND;VALUE=DATE:20250922
SUMMARY:Kabarett am See 2026 Oggau
URL:https://www.schnappen.at/oesterreich/index.php?option=com_jem&view=even
 t&id=403:kabarett-oggau
END:VEVENT
END:VCALENDAR