BEGIN:VCALENDAR
VERSION:2.0
PRODID:-//81.88.36.52//NONSGML kigkonsult.se iCalcreator 2.20//
CALSCALE:GREGORIAN
METHOD:PUBLISH
X-WR-TIMEZONE:Europe/Vienna
BEGIN:VEVENT
UID:event450@Online-Magazin SCHNAPPEN.AT: die interessanten Seiten des Lebe
 ns
DTSTAMP:20260424T110952Z
CATEGORIES:Flohmarkt\, Oldtimer\, Veranstaltungen
DESCRIPTION:Korkenziehersammlertreffen der Stoppelzieher\nKategorie: Flohma
 rkt\, Oldtimer\, Veranstaltungen\nICS-Link: https://www.schnappen.at/oeste
 rreich/index.php?option=com_jem&view=event&id=450:korkenzieher\n
DTSTART;TZID=Europe/Vienna:20261002T130000
DTEND;TZID=Europe/Vienna:20261002T130000
LOCATION:Heuriger Streiterhof\,Leesdorfer Haupstr. 64\,2500  Baden
SUMMARY:Korkenziehersammlertreffen der Stoppelzieher
URL:https://www.schnappen.at/oesterreich/index.php?option=com_jem&view=even
 t&id=450:korkenzieher
END:VEVENT
END:VCALENDAR