BEGIN:VCALENDAR
VERSION:2.0
PRODID:-//81.88.36.52//NONSGML kigkonsult.se iCalcreator 2.20//
CALSCALE:GREGORIAN
METHOD:PUBLISH
X-WR-TIMEZONE:Europe/Vienna
BEGIN:VEVENT
UID:event819@Online-Magazin SCHNAPPEN.AT: die interessanten Seiten des Lebe
 ns
DTSTAMP:20260424T095558Z
CATEGORIES:Termine noch offen
DESCRIPTION:Rod Stewart\nKategorie: Termine noch offen\nICS-Link: https://w
 ww.schnappen.at/oesterreich/index.php?option=com_jem&view=event&id=819:rod
 -stewart\n
DTSTART;VALUE=DATE:20240702
DTEND;VALUE=DATE:20240703
LOCATION:Wiener Stadthalle\,Dr. Roland Rainer Platz 1\,1150 Wien
SUMMARY:Rod Stewart
URL:https://www.schnappen.at/oesterreich/index.php?option=com_jem&view=even
 t&id=819:rod-stewart
END:VEVENT
END:VCALENDAR