BEGIN:VCALENDAR
VERSION:2.0
PRODID:-//81.88.36.52//NONSGML kigkonsult.se iCalcreator 2.20//
CALSCALE:GREGORIAN
METHOD:PUBLISH
X-WR-TIMEZONE:Europe/Vienna
BEGIN:VEVENT
UID:event852@Online-Magazin SCHNAPPEN.AT: die interessanten Seiten des Lebe
 ns
DTSTAMP:20260424T222004Z
CATEGORIES:Veranstaltungen
DESCRIPTION: Gerhard Aflenzer Broadway Big Band\nKategorie: Veranstaltungen
 \nICS-Link: https://www.schnappen.at/oesterreich/index.php?option=com_jem&
 view=event&id=852:swing-gala-aflenzer\n
DTSTART;TZID=Europe/Vienna:20260425T193000
DTEND;TZID=Europe/Vienna:20260425T193000
LOCATION:Konzerthaus Wien\,Lothringer Str. 20\,1030 Wien\,Austria
SUMMARY: Gerhard Aflenzer Broadway Big Band
URL:https://www.schnappen.at/oesterreich/index.php?option=com_jem&view=even
 t&id=852:swing-gala-aflenzer
END:VEVENT
BEGIN:VEVENT
UID:event1683@Online-Magazin SCHNAPPEN.AT: die interessanten Seiten des Leb
 ens
DTSTAMP:20260424T222004Z
CATEGORIES:Termine noch offen
DESCRIPTION:Hans Zimmer & John Williams\nKategorie: Termine noch offen\nICS
 -Link: https://www.schnappen.at/oesterreich/index.php?option=com_jem&view=
 event&id=1683:hans-zimmer\n
DTSTART;TZID=Europe/Vienna:20260419T200000
DTEND;TZID=Europe/Vienna:20260419T200000
LOCATION:Konzerthaus Wien\,Lothringer Str. 20\,1030 Wien\,Austria
SUMMARY:Hans Zimmer & John Williams
URL:https://www.schnappen.at/oesterreich/index.php?option=com_jem&view=even
 t&id=1683:hans-zimmer
END:VEVENT
END:VCALENDAR